BEGIN:VCALENDAR
VERSION:2.0
PRODID:-//Best Sports Bar Dallas | Stan's Blue Note - ECPv6.15.12.2//NONSGML v1.0//EN
CALSCALE:GREGORIAN
METHOD:PUBLISH
X-ORIGINAL-URL:https://stansbluenote.com
X-WR-CALDESC:Events for Best Sports Bar Dallas | Stan's Blue Note
REFRESH-INTERVAL;VALUE=DURATION:PT1H
X-Robots-Tag:noindex
X-PUBLISHED-TTL:PT1H
BEGIN:VTIMEZONE
TZID:America/Chicago
BEGIN:DAYLIGHT
TZOFFSETFROM:-0600
TZOFFSETTO:-0500
TZNAME:CDT
DTSTART:20240310T080000
END:DAYLIGHT
BEGIN:STANDARD
TZOFFSETFROM:-0500
TZOFFSETTO:-0600
TZNAME:CST
DTSTART:20241103T070000
END:STANDARD
BEGIN:DAYLIGHT
TZOFFSETFROM:-0600
TZOFFSETTO:-0500
TZNAME:CDT
DTSTART:20250309T080000
END:DAYLIGHT
BEGIN:STANDARD
TZOFFSETFROM:-0500
TZOFFSETTO:-0600
TZNAME:CST
DTSTART:20251102T070000
END:STANDARD
BEGIN:DAYLIGHT
TZOFFSETFROM:-0600
TZOFFSETTO:-0500
TZNAME:CDT
DTSTART:20260308T080000
END:DAYLIGHT
BEGIN:STANDARD
TZOFFSETFROM:-0500
TZOFFSETTO:-0600
TZNAME:CST
DTSTART:20261101T070000
END:STANDARD
END:VTIMEZONE
BEGIN:VEVENT
DTSTART;TZID=America/Chicago:20250209T173000
DTEND;TZID=America/Chicago:20250209T230000
DTSTAMP:20260421T102700
CREATED:20250122T154230Z
LAST-MODIFIED:20250122T154422Z
UID:8378-1739122200-1739142000@stansbluenote.com
SUMMARY:Super Bowl Watch Party | Sunday\, Feb. 9
DESCRIPTION:Come out and watch the The Big Game at the bar that the Advocate Rated as the Best Place to watch the game\, and the Dallas Observer name the Best Sports Bar!  We have specials all weekend long\, so come out and join us!\n  \nPICK THE SCORE CONTEST – WIN $500 CASH\n  \nGAMEDAY SPECIALS\n\n\nSunday 11am – Close\n$4.25 DOMESTIC PINTS\n$5 FIREBALL SHOTS\n\n\nGAME TIME SPECIALS\n$9.99 Burger and Fries\n$9.99 8 Boneless Wings and Fries\n$15.99 16 Boneless Wing and Fries
URL:https://stansbluenote.com/event/super-bowl-watch-party-sunday-feb-9/
LOCATION:Stan’s Blue Note\, 2908 Greenville Ave\, Dallas\, TX\, 75206\, United States
ATTACH;FMTTYPE=image/jpeg:https://stansbluenote.com/wp-content/uploads/2025/01/2025-Super-Bowl-Watch-Party-Digital-Sign-1920-x-1080-JRv2.jpg
ORGANIZER;CN="Stan's Blue Note":MAILTO:ifo@StansBlueNote.com
END:VEVENT
END:VCALENDAR