BEGIN:VCALENDAR
VERSION:2.0
PRODID:-//Best Sports Bar Dallas | Stan's Blue Note - ECPv6.15.12.2//NONSGML v1.0//EN
CALSCALE:GREGORIAN
METHOD:PUBLISH
X-ORIGINAL-URL:https://stansbluenote.com
X-WR-CALDESC:Events for Best Sports Bar Dallas | Stan's Blue Note
REFRESH-INTERVAL;VALUE=DURATION:PT1H
X-Robots-Tag:noindex
X-PUBLISHED-TTL:PT1H
BEGIN:VTIMEZONE
TZID:America/Chicago
BEGIN:DAYLIGHT
TZOFFSETFROM:-0600
TZOFFSETTO:-0500
TZNAME:CDT
DTSTART:20240310T080000
END:DAYLIGHT
BEGIN:STANDARD
TZOFFSETFROM:-0500
TZOFFSETTO:-0600
TZNAME:CST
DTSTART:20241103T070000
END:STANDARD
BEGIN:DAYLIGHT
TZOFFSETFROM:-0600
TZOFFSETTO:-0500
TZNAME:CDT
DTSTART:20250309T080000
END:DAYLIGHT
BEGIN:STANDARD
TZOFFSETFROM:-0500
TZOFFSETTO:-0600
TZNAME:CST
DTSTART:20251102T070000
END:STANDARD
BEGIN:DAYLIGHT
TZOFFSETFROM:-0600
TZOFFSETTO:-0500
TZNAME:CDT
DTSTART:20260308T080000
END:DAYLIGHT
BEGIN:STANDARD
TZOFFSETFROM:-0500
TZOFFSETTO:-0600
TZNAME:CST
DTSTART:20261101T070000
END:STANDARD
END:VTIMEZONE
BEGIN:VEVENT
DTSTART;TZID=America/Chicago:20250125T220000
DTEND;TZID=America/Chicago:20250126T020000
DTSTAMP:20260421T050834
CREATED:20250122T154750Z
LAST-MODIFIED:20250122T154750Z
UID:8382-1737842400-1737856800@stansbluenote.com
SUMMARY:Girls Night Out | Saturday Nights
DESCRIPTION:✨ Saturdays are for Girls Night Out at Stan’s!✨\nWhat to expect:\n🎶 A live DJ spinning your favorite tracks from 10 PM to 2 AM.\n🍹 $5 drink specials to keep the good vibes flowing\, including: \n\nFrozen Espresso Martinis\nWine\nWhite Claws\nNÜTRL\n\nWhen: Every Saturday night\, starting at 10 PM\nWhere: Stan’s Blue Note\, 2908 Greenville Ave\, Dallas TX \nGrab the girls\, your dancing shoes\, and your favorite lipstick—it’s going to be a night to remember! 💃
URL:https://stansbluenote.com/event/girls-night-out-saturday-nights/
LOCATION:Stan’s Blue Note\, 2908 Greenville Ave\, Dallas\, TX\, 75206\, United States
ATTACH;FMTTYPE=image/jpeg:https://stansbluenote.com/wp-content/uploads/2024/11/2025-Stans-Girls-Night-Out-Digital-Sign-1920-x-1080-JRv1.jpg
ORGANIZER;CN="Stan's Blue Note":MAILTO:ifo@StansBlueNote.com
END:VEVENT
END:VCALENDAR